BEGIN:VCALENDAR
VERSION:2.0
PRODID:-//eventon.com NONSGML v1.0//EN
CALSCALE:GREGORIAN
METHOD:PUBLISH
BEGIN:VEVENT
UID:69e5eb34328cb
DTSTAMP:20260420T090036Z
DTSTART:20170525T100000Z
DTEND:20170525T120000Z
LOCATION:Sol and Clara Kest Center Shonei Halachot 11\,  Old City Jerusalem\,  Israel 97501
SUMMARY:Kest Center Inauguration
DESCRIPTION:In honor of Jerusalem&#8217;s 50th anniversary of Reunification
 \,  Thank Israeli Soldiers will be inaugurating the Sol and Clara Kest Cent
 er\,  an extraordinary home dedicated to IDF soldiers inside the walls of t
 he holy Old City of Jerusalem.\nhttps://kestcenter.com/events/kest-center-i
 nauguration/
URL:https://kestcenter.com/events/kest-center-inauguration/
END:VEVENT
END:VCALENDAR